BEGIN:VCALENDAR
VERSION:2.0
PRODID:Fort Bend County, TX Calendar Creator
METHOD:PUBLISH
BEGIN:VEVENT
DTSTAMP:20211129T084827
DTSTART:20200707T100000
DTEND:20200707T040000
SUMMARY:Teal Run General Maintenance Association, Inc. Vs. Reginald D. Fisher and Angela L. Fisher-CANCELLED
DESCRIPTION:<p align="LEFT">&nbsp;</p>

<p style="text-align: center;"><b><span style="text-decoration: underline;">NOTICE OF CONSTABLE SALE </span></b></p>

<p style="text-align: center;"><strong><span style
CLASS:PUBLIC
END:VEVENT
END:VCALENDAR
